BEGIN:VCALENDAR
VERSION:2.0
PRODID:-//eventon.com NONSGML v1.0//EN
CALSCALE:GREGORIAN
METHOD:PUBLISH
BEGIN:VEVENT
UID:69e9436e65154
DTSTAMP:20260422T215350Z
DTSTART:20260429T083000Z
DTEND:20260429T090000Z
LOCATION:médiathèque du Tonkin
SUMMARY:Bouquins câlins [Fête du livre jeunesse] - COMPLET
DESCRIPTION:Sur inscription en cliquant ici ou par téléphone au 04 78 89 
 78 90. Ouverture des inscriptions 15 jours avant la séance Histoires\,  co
 mptines\,  jeux de doigts\,  les bébés et enfants de moins de trois ans p
 artent à la découverte des livres. En écho avec l'univers de Giulia Vetr
 i exposée[..]\nhttps://mediatheques.villeurbanne.fr/agenda/events/bouquins
 -calins-fete-du-livre-jeunesse/
URL:https://mediatheques.villeurbanne.fr/agenda/events/bouquins-calins-fete-du-livre-jeunesse/
END:VEVENT
END:VCALENDAR