BEGIN:VCALENDAR
VERSION:2.0
PRODID:-//eventon.com NONSGML v1.0//EN
CALSCALE:GREGORIAN
METHOD:PUBLISH
BEGIN:VEVENT
UID:69e9434cf3315
DTSTAMP:20260422T215316Z
DTSTART:20260513T083000Z
DTEND:20260513T090000Z
LOCATION:médiathèque du Tonkin
SUMMARY:Bouquins câlins
DESCRIPTION:Sur inscription en cliquant ici ou par téléphone au 04 78 89 
 78 90. Ouverture des inscriptions 15 jours avant la séance Histoires\,  co
 mptines\,  jeux de doigts\,  les bébés et enfants de moins de trois ans p
 artent à la découverte des livres. Cette animation est ouverte à tous (m
 erci aux[..]\nhttps://mediatheques.villeurbanne.fr/agenda/events/bouquins-c
 alins-17/
URL:https://mediatheques.villeurbanne.fr/agenda/events/bouquins-calins-17/
END:VEVENT
END:VCALENDAR