BEGIN:VCALENDAR
VERSION:2.0
PRODID:-//eventon.com NONSGML v1.0//EN
CALSCALE:GREGORIAN
METHOD:PUBLISH
BEGIN:VEVENT
UID:69e942774a693
DTSTAMP:20260422T214943Z
DTSTART:20260227T130000Z
DTEND:20260426T160000Z
LOCATION:Maison du livre\,  de l'image et du son 247 cours émile Zola\,  Villeurbanne
SUMMARY:Delphine Dénéréaz. Bienvenue à Delfunland [Fête du livre jeunesse]
DESCRIPTION:Dans l’espace de l’artothèque\,  Delphine Dénéréaz  no
 us invite à explorer les vestiges de Delfunland\,  monde enfoui\,  dédié
  en son temps à l’amour et aux dauphins. Cadillac\,  fontaine\,  façade
 s\,  boutique de souvenirs et chambre d’hôtel sont autant de témoins de
  la mémoire d’une ville recouverte de plantes ornementales toxiques\,  d
 evenues incontrôlables.[..]\nhttps://mediatheques.villeurbanne.fr/agenda/e
 vents/delphine-denereaz-bienvenue-a-delfunland/
URL:https://mediatheques.villeurbanne.fr/agenda/events/delphine-denereaz-bienvenue-a-delfunland/
END:VEVENT
END:VCALENDAR