BEGIN:VCALENDAR
VERSION:2.0
PRODID:-//eventon.com NONSGML v1.0//EN
CALSCALE:GREGORIAN
METHOD:PUBLISH
BEGIN:VEVENT
UID:69e6df7fd87d2
DTSTAMP:20260421T022255Z
DTSTART:20260502T120000Z
DTEND:20260502T160000Z
LOCATION:Maison du livre\,  de l'image et du son 247 cours émile Zola\,  Villeurbanne
SUMMARY:Sélection jeux vidéo
DESCRIPTION:Le temps d'un après-midi\,  réservez un créneau de jeu vidé
 o pour tester les jeux choisis lors du club jeux vidéo par les usagers et 
 les animateurs numériques. Sans inscription. Réservation des créneaux le
  jour j auprès des bibliothécaires\,  aux heures d'ouverture de l'espace 
 multimédia.\nhttps://mediatheques.villeurbanne.fr/agenda/events/selection-
 jeux-video-5/
URL:https://mediatheques.villeurbanne.fr/agenda/events/selection-jeux-video-5/
END:VEVENT
END:VCALENDAR