BEGIN:VCALENDAR
VERSION:2.0
PRODID:-//eventon.com NONSGML v1.0//EN
CALSCALE:GREGORIAN
METHOD:PUBLISH
BEGIN:VEVENT
UID:69e9434c9fd22
DTSTAMP:20260422T215316Z
DTSTART:20260606T083000Z
DTEND:20260606T100000Z
LOCATION:médiathèque du Tonkin
SUMMARY:À livr’ouvert
DESCRIPTION:Sur inscription en cliquant ici. Ouverture des inscriptions 15 
 jours avant la date de l’événement. L’équipe de la médiathèque est
  heureuse de vous accueillir pour vous présenter ses derniers coups de &#x
 2665; en littérature. Découvrez des histoires de familles complexes\,  pa
 rfois cruelles\,  des personnages touchants ou déjantés\,  des univers bu
 rlesques[..]\nhttps://mediatheques.villeurbanne.fr/agenda/events/a-livrouve
 rt-2/
URL:https://mediatheques.villeurbanne.fr/agenda/events/a-livrouvert-2/
END:VEVENT
END:VCALENDAR