BEGIN:VCALENDAR
VERSION:2.0
PRODID:-//eventon.com NONSGML v1.0//EN
CALSCALE:GREGORIAN
METHOD:PUBLISH
BEGIN:VEVENT
UID:69e75b33be0f0
DTSTAMP:20260421T111043Z
DTSTART:20260701T130000Z
DTEND:20260701T150000Z
LOCATION:mÃ©diathÃ¨que du Tonkin
SUMMARY:Tournoi jeux vidÃ©o
DESCRIPTION:En famille ou entre ami(e)s\,  entrez dans lâ€™univers du jeu v
 idÃ©o avec un tournoi organisÃ© par les bibliothÃ©caires. A partir d'une sÃ
 ©lection de jeux drÃ´les\,  rapides et intuitifs\,  petits et grands sâ€™af
 fronteront dans des mini-dÃ©fis dÃ©lirants. Un tournoi accessible Ã  tous\,
   sans manette compliquÃ©e ni expÃ©rience nÃ©cessaire ! Avis aux[..]\nhttps
 ://mediatheques.villeurbanne.fr/agenda/events/tournoi-jeux-video-4/
URL:https://mediatheques.villeurbanne.fr/agenda/events/tournoi-jeux-video-4/
END:VEVENT
END:VCALENDAR