BEGIN:VCALENDAR
VERSION:2.0
PRODID:-//eventon.com NONSGML v1.0//EN
CALSCALE:GREGORIAN
METHOD:PUBLISH
BEGIN:VEVENT
UID:69e942bee8f4f
DTSTAMP:20260422T215054Z
DTSTART:20260626T080000Z
DTEND:20260626T100000Z
LOCATION:médiathèque du Tonkin
SUMMARY:Et toi… tu lis quoi ? sortie en librairie
DESCRIPTION:Sur inscription sur place ou par téléphone au 04 78 89 78 90.
  Ados entre 12 et 18 ans\,  dévoreurs de livres et critiques de nature\,  
 rejoignez-nous au club de lecture ados pour donner votre avis sur les livre
 s de la sélection et pour partager vos coups de coeur. Ce[..]\nhttps://med
 iatheques.villeurbanne.fr/agenda/events/et-toi-tu-lis-quoi-sortie-en-librai
 rie-2/
URL:https://mediatheques.villeurbanne.fr/agenda/events/et-toi-tu-lis-quoi-sortie-en-librairie-2/
END:VEVENT
END:VCALENDAR