BEGIN:VCALENDAR
VERSION:2.0
PRODID:-//eventon.com NONSGML v1.0//EN
CALSCALE:GREGORIAN
METHOD:PUBLISH
BEGIN:VEVENT
UID:69e4e99c1cb5f
DTSTAMP:20260419T144132Z
DTSTART:20260529T153000Z
DTEND:20260529T170000Z
LOCATION:médiathèque du Tonkin
SUMMARY:Et toi… tu lis quoi ?
DESCRIPTION:Sur inscription sur place ou par téléphone au 04 78 89 78 90.
  Ados entre 12 et 18 ans\,  dévoreurs de livres et critiques de nature\,  
 rejoignez-nous au club de lecture ados pour donner votre avis sur les livre
 s de la sélection et pour partager vos coups de coeur. Ce[..]\nhttps://med
 iatheques.villeurbanne.fr/agenda/events/et-toi-tu-lis-quoi-5/
URL:https://mediatheques.villeurbanne.fr/agenda/events/et-toi-tu-lis-quoi-5/
END:VEVENT
END:VCALENDAR