BEGIN:VCALENDAR
VERSION:2.0
PRODID:-//eventon.com NONSGML v1.0//EN
CALSCALE:GREGORIAN
METHOD:PUBLISH
BEGIN:VEVENT
UID:69e942de088d0
DTSTAMP:20260422T215126Z
DTSTART:20260605T150000Z
DTEND:20260605T170000Z
LOCATION:médiathèque du Tonkin
SUMMARY:Cafétrico"thé"
DESCRIPTION:Sur inscription en cliquant ici. Ouverture des inscriptions 15 
 jour avant la date de l'événement. Carrés\,  écharpes\,  pompons pour l
 es débutants\,  gants\,  bonnets\,  chaussettes\,  guirlandes pour les ini
 tié(e)s : tout peut être intéressant ! Rejoignez la tribu des tricoteuse
 s dans leur projet de tricoter des carrés\,  des pulls\,  des pompons[..]\
 nhttps://mediatheques.villeurbanne.fr/agenda/events/cafetricothe-6/
URL:https://mediatheques.villeurbanne.fr/agenda/events/cafetricothe-6/
END:VEVENT
END:VCALENDAR