BEGIN:VCALENDAR
VERSION:2.0
PRODID:-//eventon.com NONSGML v1.0//EN
CALSCALE:GREGORIAN
METHOD:PUBLISH
BEGIN:VEVENT
UID:69e9436e2bc6b
DTSTAMP:20260422T215350Z
DTSTART:20260425T083000Z
DTEND:20260425T100000Z
LOCATION:Maison du livre\,  de l'image et du son 247 cours émile Zola\,  Villeurbanne
SUMMARY:Enlivrez-vous Le Cercle
DESCRIPTION:Inscription pour la présentation d'un livre en cliquant ici En
 livrez-vous Le Cercle est rendez-vous littéraire auquel nous vous invitons
  pour échanger autour d’un thème choisi ensemble - bibliothécaires et 
 participant(e)s. Chaque participant(e) s’inscrit pour présenter le ou le
 s documents de son choix en lien avec le thème et présents dans[..]\nhttp
 s://mediatheques.villeurbanne.fr/agenda/events/enlivrez-vous-le-cercle-4/
URL:https://mediatheques.villeurbanne.fr/agenda/events/enlivrez-vous-le-cercle-4/
END:VEVENT
END:VCALENDAR