BEGIN:VCALENDAR
VERSION:2.0
PRODID:-//eventon.com NONSGML v1.0//EN
CALSCALE:GREGORIAN
METHOD:PUBLISH
BEGIN:VEVENT
UID:69e9435e218ba
DTSTAMP:20260422T215334Z
DTSTART:20260527T150000Z
DTEND:20260527T170000Z
LOCATION:Maison du livre\,  de l'image et du son 247 cours émile Zola\,  Villeurbanne
SUMMARY:La langue française existe-t-elle ? [UTA-Université Lyon2]
DESCRIPTION:Sur inscription (ouverture un mois avant) En partenariat avec l
 ’Université Tous Ages de l’Université Lumière Lyon 2\,  la maison du
  livre de l’image et du son est heureuse de vous proposer un cycle de 6 c
 onférences "La langue française existe-t-elle ?" animé par Yannick CHEVA
 LIER - Maître de conférences à[..]\nhttps://mediatheques.villeurbanne.fr
 /agenda/events/la-langue-francaise-existe-t-elle-uta-universite-lyon2-6/
URL:https://mediatheques.villeurbanne.fr/agenda/events/la-langue-francaise-existe-t-elle-uta-universite-lyon2-6/
END:VEVENT
END:VCALENDAR