BEGIN:VCALENDAR
VERSION:2.0
PRODID:-//eventon.com NONSGML v1.0//EN
CALSCALE:GREGORIAN
METHOD:PUBLISH
BEGIN:VEVENT
UID:69e9425187cde
DTSTAMP:20260422T214905Z
DTSTART:20260520T123000Z
DTEND:20260520T153000Z
LOCATION:Maison du livre\,  de l'image et du son 247 cours émile Zola\,  Villeurbanne
SUMMARY:On joue ? avec des jeux adaptés aux personnes en situation de handicap visuel
DESCRIPTION:Jeux de société adaptés avec matériel de simulation au hand
 icap : un atelier pour tester des jeux accessibles\,  pour joueuses et joue
 urs expérimentés ou novices !Jeux d'énigmes et découverte du braille : 
 une expérience ludique et sensible pour s'initier à la langue. En partena
 riat avec le Centre technique régional pour[..]\nhttps://mediatheques.vill
 eurbanne.fr/agenda/events/on-joue-3-2/
URL:https://mediatheques.villeurbanne.fr/agenda/events/on-joue-3-2/
END:VEVENT
END:VCALENDAR