BEGIN:VCALENDAR
VERSION:2.0
PRODID:-//eventon.com NONSGML v1.0//EN
CALSCALE:GREGORIAN
METHOD:PUBLISH
BEGIN:VEVENT
UID:69e9429ac8dc8
DTSTAMP:20260422T215018Z
DTSTART:20260424T160000Z
DTEND:20260424T180000Z
LOCATION:mÃ©diathÃ¨que du Tonkin
SUMMARY:Tornades et tempÃªtes : vernissage [FÃªte du livre jeunesse]
DESCRIPTION:Profitez de la prÃ©sence de Giulia Vetri\,  autrice-illustratri
 ce de l'album Tornade\,  le chien ouragan\,  pour dÃ©couvrir son travail\, 
  ses inspirations et Ã©changer avec elle. InspirÃ©e par lâ€™expÃ©rience dâ€
 ™avoir accueilli un chien venu dâ€™un refuge\,  au passÃ© un peu cabossÃ©\,
   lâ€™artiste raconte Ã  travers cette histoire â€“ celle de Nora et[..]\nh
 ttps://mediatheques.villeurbanne.fr/agenda/events/vernissage-de-lexposition
 -faire-feu-de-tout-bois-en-presence-de-sarah-cheveau-fete-du-livre-jeunesse
 /
URL:https://mediatheques.villeurbanne.fr/agenda/events/vernissage-de-lexposition-faire-feu-de-tout-bois-en-presence-de-sarah-cheveau-fete-du-livre-jeunesse/
END:VEVENT
END:VCALENDAR