BEGIN:VCALENDAR
VERSION:2.0
PRODID:-//eventon.com NONSGML v1.0//EN
CALSCALE:GREGORIAN
METHOD:PUBLISH
BEGIN:VEVENT
UID:69e94216d3e29
DTSTAMP:20260422T214806Z
DTSTART:20260328T090000Z
DTEND:20260502T160000Z
LOCATION:mÃ©diathÃ¨que du Tonkin
SUMMARY:Tornades et tempÃªtes : un voyage au cÅ“ur des Ã©motions [FÃªte du livre jeunesse]
DESCRIPTION:Lâ€™artiste Giulia Vetri vous invite Ã  explorer un univers oÃ¹
  les Ã©motions se dÃ©chaÃ®nent comme le vent et les orages : bienvenue dans
  le monde de Tornade\,  le chien ouragan. InspirÃ©e par lâ€™expÃ©rience dâ€
 ™avoir accueilli un chien venu dâ€™un refuge\,  au passÃ© un peu cabossÃ©\,
   lâ€™artiste raconte Ã  travers cette[..]\nhttps://mediatheques.villeurban
 ne.fr/agenda/events/exposition-tornades_et_tempetes-fete-du-livre-jeunesse/
URL:https://mediatheques.villeurbanne.fr/agenda/events/exposition-tornades_et_tempetes-fete-du-livre-jeunesse/
END:VEVENT
END:VCALENDAR